BEGIN:VCALENDAR
VERSION:2.0
PRODID:-//Association Grand-Tinejdad pour le Développement et la Coopération – AGTDC - ECPv6.2.9//NONSGML v1.0//EN
CALSCALE:GREGORIAN
METHOD:PUBLISH
X-ORIGINAL-URL:https://agtdc.ma
X-WR-CALDESC:évènements pour Association Grand-Tinejdad pour le Développement et la Coopération – AGTDC
REFRESH-INTERVAL;VALUE=DURATION:PT1H
X-Robots-Tag:noindex
X-PUBLISHED-TTL:PT1H
BEGIN:VTIMEZONE
TZID:Europe/Paris
BEGIN:DAYLIGHT
TZOFFSETFROM:+0100
TZOFFSETTO:+0200
TZNAME:CEST
DTSTART:20230326T010000
END:DAYLIGHT
BEGIN:STANDARD
TZOFFSETFROM:+0200
TZOFFSETTO:+0100
TZNAME:CET
DTSTART:20231029T010000
END:STANDARD
END:VTIMEZONE
BEGIN:VEVENT
DTSTART;TZID=Europe/Paris:20230309T130000
DTEND;TZID=Europe/Paris:20230309T170000
DTSTAMP:20260424T094353
CREATED:20230309T065140Z
LAST-MODIFIED:20230309T065140Z
UID:367-1678366800-1678381200@agtdc.ma
SUMMARY:Meeting Officiel
DESCRIPTION:Présentation de l’Association et de ses objectifs pour l’année à venir.
URL:https://agtdc.ma/event/meeting-officiel/
END:VEVENT
END:VCALENDAR